BEGIN:VCALENDAR
VERSION:2.0
PRODID:-//Kultura Bělá - ECPv6.3.2//NONSGML v1.0//EN
CALSCALE:GREGORIAN
METHOD:PUBLISH
X-WR-CALNAME:Kultura Bělá
X-ORIGINAL-URL:https://kulturabela.cz
X-WR-CALDESC:Akce na Kultura Bělá
REFRESH-INTERVAL;VALUE=DURATION:PT1H
X-Robots-Tag:noindex
X-PUBLISHED-TTL:PT1H
BEGIN:VTIMEZONE
TZID:Europe/Prague
BEGIN:DAYLIGHT
TZOFFSETFROM:+0100
TZOFFSETTO:+0200
TZNAME:CEST
DTSTART:20260329T010000
END:DAYLIGHT
BEGIN:STANDARD
TZOFFSETFROM:+0200
TZOFFSETTO:+0100
TZNAME:CET
DTSTART:20261025T010000
END:STANDARD
END:VTIMEZONE
BEGIN:VEVENT
DTSTART;TZID=Europe/Prague:20260501T140000
DTEND;TZID=Europe/Prague:20260501T150000
DTSTAMP:20260425T230325
CREATED:20260116T124958Z
LAST-MODIFIED:20260422T074522Z
UID:10003559-1777644000-1777647600@kulturabela.cz
SUMMARY:Poetický piknik
DESCRIPTION:Zlatka Bartošková v hudebním altánu parku na Masarykově náměstí zahraje svým šansonem na naši poetickou strunu.
URL:https://kulturabela.cz/event/poeticky-piknik-4/
LOCATION:Bělá pod Bezdězem\, náměstí\, Masarykovo náměstí
CATEGORIES:Koncert,Kultura,Poezie
ATTACH;FMTTYPE=image/jpeg:https://kulturabela.cz/wp-content/uploads/2026/01/Aktualni-foto-scaled.jpg
ORGANIZER;CN="Kultura B%C4%9Bl%C3%A1":MAILTO:kass@mkzbela.cz
END:VEVENT
BEGIN:VEVENT
DTSTART;TZID=Europe/Prague:20260502T140000
DTEND;TZID=Europe/Prague:20260502T150000
DTSTAMP:20260425T230325
CREATED:20260407T130133Z
LAST-MODIFIED:20260407T130246Z
UID:10003567-1777730400-1777734000@kulturabela.cz
SUMMARY:Zahájení sezony na zámku - Uč se\, modli a pracuj
DESCRIPTION:Jako každý rok zahájíme zámeckou návštěvnickou sezonu vernisáží výstavy věnované dětské manufaktuře tentokrát na téma:  \nUČ SE\, MODLI A PRACUJ  \nJeště o trochu víc\, než ve známém „ Ora et labora“\, což je heslo řádu benediktinů a v překladu znamená „Modli se a pracuj“. Pochopitelný závazek pro mnichy dobrovolně vstoupivší do církevního řádu\, méně pochopitelný pro bezprizorní pubescenty a adolescenty v druhé polovině 18. století. Závazek dětí umístěných do dětské manufaktury na zámku v Bělé u Bezdězu. \nK tomuto výjimečnému zařízení na zámku v Bělé se vracíme každoročně\, již 11 let. Ze všech stran se snažíme nahlédnout\, jak tato instituce\, která v mnohém předběhla svou dobu  a tím i v mnohém selhala\, fungovala. Letos to budou věci duchovní: vzdělávání a modlitba. \nV sobotu 2. 5. 2026 od 14. 00 hodin v IC s expozicemi na zámku v Bělé pod Bezdězem. \nVstup volný.
URL:https://kulturabela.cz/event/zahajeni-sezony-na-zamku-uc-se-modli-a-pracuj/
LOCATION:IC s expozicemi na zámku
CATEGORIES:Kultura,Přednáška,Výstava,Zámek
ATTACH;FMTTYPE=image/jpeg:https://kulturabela.cz/wp-content/uploads/2026/04/zamek-6-scaled.jpg
ORGANIZER;CN="Kultura B%C4%9Bl%C3%A1":MAILTO:kass@mkzbela.cz
END:VEVENT
BEGIN:VEVENT
DTSTART;TZID=Europe/Prague:20260505T173000
DTEND;TZID=Europe/Prague:20260505T190000
DTSTAMP:20260425T230325
CREATED:20260105T084222Z
LAST-MODIFIED:20251127T071055Z
UID:10002480-1778002200-1778007600@kulturabela.cz
SUMMARY:Zámecký klubík - Meditace
DESCRIPTION:Milí\, \nzvu Vás každé úterý od 17.30 hod. ke společnému bytí a meditování. \nZtišme myšlenky\, zachumlejme se do deky a do sebe. \nTěším se na Vás \nMarcela \nVstupné 150\,- Kč \n 
URL:https://kulturabela.cz/event/zamecky-klubik-meditace/2026-05-05/
LOCATION:Zámecký klubík
CATEGORIES:Klubík,Zámek
ATTACH;FMTTYPE=image/jpeg:https://kulturabela.cz/wp-content/uploads/2025/09/heart-700141_1280.jpg
END:VEVENT
BEGIN:VEVENT
DTSTART;TZID=Europe/Prague:20260507T173000
DTEND;TZID=Europe/Prague:20260507T190000
DTSTAMP:20260425T230325
CREATED:20260102T073045Z
LAST-MODIFIED:20251127T065932Z
UID:10003261-1778175000-1778180400@kulturabela.cz
SUMMARY:Jóga s Adél
DESCRIPTION:Milí\, zveme Vás na lekce flow yogy\, vedené zkušenou lektorkou Adél INAK. \nKaždý čtvrtek od 17.30 hod. v Zámeckém klubíku. \nVstupné 150\,- \, s permanentkou 130\,-. \nTěšíme se na Vás.
URL:https://kulturabela.cz/event/joga-s-adel/2026-05-07/
LOCATION:Zámek Bělá pod Bezdězem
CATEGORIES:Klubík,Zámek
ATTACH;FMTTYPE=image/jpeg:https://kulturabela.cz/wp-content/uploads/2025/09/497609391_24262973459972193_3445528966555479462_n.jpg
END:VEVENT
BEGIN:VEVENT
DTSTART;TZID=Europe/Prague:20260512T173000
DTEND;TZID=Europe/Prague:20260512T190000
DTSTAMP:20260425T230325
CREATED:20260105T084222Z
LAST-MODIFIED:20251127T071055Z
UID:10002481-1778607000-1778612400@kulturabela.cz
SUMMARY:Zámecký klubík - Meditace
DESCRIPTION:Milí\, \nzvu Vás každé úterý od 17.30 hod. ke společnému bytí a meditování. \nZtišme myšlenky\, zachumlejme se do deky a do sebe. \nTěším se na Vás \nMarcela \nVstupné 150\,- Kč \n 
URL:https://kulturabela.cz/event/zamecky-klubik-meditace/2026-05-12/
LOCATION:Zámecký klubík
CATEGORIES:Klubík,Zámek
ATTACH;FMTTYPE=image/jpeg:https://kulturabela.cz/wp-content/uploads/2025/09/heart-700141_1280.jpg
END:VEVENT
BEGIN:VEVENT
DTSTART;TZID=Europe/Prague:20260514T173000
DTEND;TZID=Europe/Prague:20260514T190000
DTSTAMP:20260425T230325
CREATED:20260102T073045Z
LAST-MODIFIED:20251127T065932Z
UID:10003262-1778779800-1778785200@kulturabela.cz
SUMMARY:Jóga s Adél
DESCRIPTION:Milí\, zveme Vás na lekce flow yogy\, vedené zkušenou lektorkou Adél INAK. \nKaždý čtvrtek od 17.30 hod. v Zámeckém klubíku. \nVstupné 150\,- \, s permanentkou 130\,-. \nTěšíme se na Vás.
URL:https://kulturabela.cz/event/joga-s-adel/2026-05-14/
LOCATION:Zámek Bělá pod Bezdězem
CATEGORIES:Klubík,Zámek
ATTACH;FMTTYPE=image/jpeg:https://kulturabela.cz/wp-content/uploads/2025/09/497609391_24262973459972193_3445528966555479462_n.jpg
END:VEVENT
BEGIN:VEVENT
DTSTART;TZID=Europe/Prague:20260519T173000
DTEND;TZID=Europe/Prague:20260519T190000
DTSTAMP:20260425T230325
CREATED:20260105T084222Z
LAST-MODIFIED:20251127T071055Z
UID:10002482-1779211800-1779217200@kulturabela.cz
SUMMARY:Zámecký klubík - Meditace
DESCRIPTION:Milí\, \nzvu Vás každé úterý od 17.30 hod. ke společnému bytí a meditování. \nZtišme myšlenky\, zachumlejme se do deky a do sebe. \nTěším se na Vás \nMarcela \nVstupné 150\,- Kč \n 
URL:https://kulturabela.cz/event/zamecky-klubik-meditace/2026-05-19/
LOCATION:Zámecký klubík
CATEGORIES:Klubík,Zámek
ATTACH;FMTTYPE=image/jpeg:https://kulturabela.cz/wp-content/uploads/2025/09/heart-700141_1280.jpg
END:VEVENT
BEGIN:VEVENT
DTSTART;TZID=Europe/Prague:20260521T173000
DTEND;TZID=Europe/Prague:20260521T190000
DTSTAMP:20260425T230325
CREATED:20260102T073045Z
LAST-MODIFIED:20251127T065932Z
UID:10003263-1779384600-1779390000@kulturabela.cz
SUMMARY:Jóga s Adél
DESCRIPTION:Milí\, zveme Vás na lekce flow yogy\, vedené zkušenou lektorkou Adél INAK. \nKaždý čtvrtek od 17.30 hod. v Zámeckém klubíku. \nVstupné 150\,- \, s permanentkou 130\,-. \nTěšíme se na Vás.
URL:https://kulturabela.cz/event/joga-s-adel/2026-05-21/
LOCATION:Zámek Bělá pod Bezdězem
CATEGORIES:Klubík,Zámek
ATTACH;FMTTYPE=image/jpeg:https://kulturabela.cz/wp-content/uploads/2025/09/497609391_24262973459972193_3445528966555479462_n.jpg
END:VEVENT
BEGIN:VEVENT
DTSTART;TZID=Europe/Prague:20260526T173000
DTEND;TZID=Europe/Prague:20260526T190000
DTSTAMP:20260425T230325
CREATED:20260105T084222Z
LAST-MODIFIED:20251127T071055Z
UID:10002483-1779816600-1779822000@kulturabela.cz
SUMMARY:Zámecký klubík - Meditace
DESCRIPTION:Milí\, \nzvu Vás každé úterý od 17.30 hod. ke společnému bytí a meditování. \nZtišme myšlenky\, zachumlejme se do deky a do sebe. \nTěším se na Vás \nMarcela \nVstupné 150\,- Kč \n 
URL:https://kulturabela.cz/event/zamecky-klubik-meditace/2026-05-26/
LOCATION:Zámecký klubík
CATEGORIES:Klubík,Zámek
ATTACH;FMTTYPE=image/jpeg:https://kulturabela.cz/wp-content/uploads/2025/09/heart-700141_1280.jpg
END:VEVENT
BEGIN:VEVENT
DTSTART;TZID=Europe/Prague:20260528T173000
DTEND;TZID=Europe/Prague:20260528T190000
DTSTAMP:20260425T230325
CREATED:20260102T073045Z
LAST-MODIFIED:20251127T065932Z
UID:10003264-1779989400-1779994800@kulturabela.cz
SUMMARY:Jóga s Adél
DESCRIPTION:Milí\, zveme Vás na lekce flow yogy\, vedené zkušenou lektorkou Adél INAK. \nKaždý čtvrtek od 17.30 hod. v Zámeckém klubíku. \nVstupné 150\,- \, s permanentkou 130\,-. \nTěšíme se na Vás.
URL:https://kulturabela.cz/event/joga-s-adel/2026-05-28/
LOCATION:Zámek Bělá pod Bezdězem
CATEGORIES:Klubík,Zámek
ATTACH;FMTTYPE=image/jpeg:https://kulturabela.cz/wp-content/uploads/2025/09/497609391_24262973459972193_3445528966555479462_n.jpg
END:VEVENT
END:VCALENDAR