BEGIN:VCALENDAR
VERSION:2.0
PRODID:-//Kultura Bělá - ECPv6.3.2//NONSGML v1.0//EN
CALSCALE:GREGORIAN
METHOD:PUBLISH
X-ORIGINAL-URL:https://kulturabela.cz
X-WR-CALDESC:Akce na Kultura Bělá
REFRESH-INTERVAL;VALUE=DURATION:PT1H
X-Robots-Tag:noindex
X-PUBLISHED-TTL:PT1H
BEGIN:VTIMEZONE
TZID:Europe/Prague
BEGIN:DAYLIGHT
TZOFFSETFROM:+0100
TZOFFSETTO:+0200
TZNAME:CEST
DTSTART:20260329T010000
END:DAYLIGHT
BEGIN:STANDARD
TZOFFSETFROM:+0200
TZOFFSETTO:+0100
TZNAME:CET
DTSTART:20261025T010000
END:STANDARD
END:VTIMEZONE
BEGIN:VEVENT
DTSTART;TZID=Europe/Prague:20260303T173000
DTEND;TZID=Europe/Prague:20260303T190000
DTSTAMP:20260425T230519
CREATED:20260105T084222Z
LAST-MODIFIED:20251127T071055Z
UID:10002471-1772559000-1772564400@kulturabela.cz
SUMMARY:Zámecký klubík - Meditace
DESCRIPTION:Milí\, \nzvu Vás každé úterý od 17.30 hod. ke společnému bytí a meditování. \nZtišme myšlenky\, zachumlejme se do deky a do sebe. \nTěším se na Vás \nMarcela \nVstupné 150\,- Kč \n 
URL:https://kulturabela.cz/event/zamecky-klubik-meditace/2026-03-03/
LOCATION:Zámecký klubík
CATEGORIES:Klubík,Zámek
ATTACH;FMTTYPE=image/jpeg:https://kulturabela.cz/wp-content/uploads/2025/09/heart-700141_1280.jpg
END:VEVENT
BEGIN:VEVENT
DTSTART;TZID=Europe/Prague:20260305T173000
DTEND;TZID=Europe/Prague:20260305T190000
DTSTAMP:20260425T230519
CREATED:20260102T073045Z
LAST-MODIFIED:20251127T065932Z
UID:10003252-1772731800-1772737200@kulturabela.cz
SUMMARY:Jóga s Adél
DESCRIPTION:Milí\, zveme Vás na lekce flow yogy\, vedené zkušenou lektorkou Adél INAK. \nKaždý čtvrtek od 17.30 hod. v Zámeckém klubíku. \nVstupné 150\,- \, s permanentkou 130\,-. \nTěšíme se na Vás.
URL:https://kulturabela.cz/event/joga-s-adel/2026-03-05/
LOCATION:Zámek Bělá pod Bezdězem
CATEGORIES:Klubík,Zámek
ATTACH;FMTTYPE=image/jpeg:https://kulturabela.cz/wp-content/uploads/2025/09/497609391_24262973459972193_3445528966555479462_n.jpg
END:VEVENT
BEGIN:VEVENT
DTSTART;TZID=Europe/Prague:20260310T173000
DTEND;TZID=Europe/Prague:20260310T190000
DTSTAMP:20260425T230519
CREATED:20260105T084222Z
LAST-MODIFIED:20251127T071055Z
UID:10002472-1773163800-1773169200@kulturabela.cz
SUMMARY:Zámecký klubík - Meditace
DESCRIPTION:Milí\, \nzvu Vás každé úterý od 17.30 hod. ke společnému bytí a meditování. \nZtišme myšlenky\, zachumlejme se do deky a do sebe. \nTěším se na Vás \nMarcela \nVstupné 150\,- Kč \n 
URL:https://kulturabela.cz/event/zamecky-klubik-meditace/2026-03-10/
LOCATION:Zámecký klubík
CATEGORIES:Klubík,Zámek
ATTACH;FMTTYPE=image/jpeg:https://kulturabela.cz/wp-content/uploads/2025/09/heart-700141_1280.jpg
END:VEVENT
BEGIN:VEVENT
DTSTART;TZID=Europe/Prague:20260312T173000
DTEND;TZID=Europe/Prague:20260312T190000
DTSTAMP:20260425T230519
CREATED:20260102T073045Z
LAST-MODIFIED:20251127T065932Z
UID:10003253-1773336600-1773342000@kulturabela.cz
SUMMARY:Jóga s Adél
DESCRIPTION:Milí\, zveme Vás na lekce flow yogy\, vedené zkušenou lektorkou Adél INAK. \nKaždý čtvrtek od 17.30 hod. v Zámeckém klubíku. \nVstupné 150\,- \, s permanentkou 130\,-. \nTěšíme se na Vás.
URL:https://kulturabela.cz/event/joga-s-adel/2026-03-12/
LOCATION:Zámek Bělá pod Bezdězem
CATEGORIES:Klubík,Zámek
ATTACH;FMTTYPE=image/jpeg:https://kulturabela.cz/wp-content/uploads/2025/09/497609391_24262973459972193_3445528966555479462_n.jpg
END:VEVENT
BEGIN:VEVENT
DTSTART;TZID=Europe/Prague:20260314T150000
DTEND;TZID=Europe/Prague:20260314T160000
DTSTAMP:20260425T230519
CREATED:20260204T151720Z
LAST-MODIFIED:20260204T151720Z
UID:10003562-1773500400-1773504000@kulturabela.cz
SUMMARY:POHÁDKA V KOMORNÍM SÁLE
DESCRIPTION:“Jak to na tom světě chodí se jednoho dne rozhodl zjistit skřítek Šubísek.” \nTři příběhy\, tři setkání \, vítězství dobra nad zlem a tři pohádková ponaučení.  Autorské představení Divadýlka Mrak z Havlíčkova Brodu\, provedené s velkými marionetami. \n 
URL:https://kulturabela.cz/event/pohadka-v-komornim-sale-2/
LOCATION:Kultura Bělá  – Komorní sál\, Masarykovo náměstí 140\, Bělá pod Bezdězem\, 294 21
CATEGORIES:Divadlo,Kultura,Pohádka
ATTACH;FMTTYPE=image/jpeg:https://kulturabela.cz/wp-content/uploads/2026/02/Subisek_foto.jpg
ORGANIZER;CN="Kultura B%C4%9Bl%C3%A1":MAILTO:kass@mkzbela.cz
END:VEVENT
BEGIN:VEVENT
DTSTART;TZID=Europe/Prague:20260317T173000
DTEND;TZID=Europe/Prague:20260317T190000
DTSTAMP:20260425T230519
CREATED:20260105T084222Z
LAST-MODIFIED:20251127T071055Z
UID:10002473-1773768600-1773774000@kulturabela.cz
SUMMARY:Zámecký klubík - Meditace
DESCRIPTION:Milí\, \nzvu Vás každé úterý od 17.30 hod. ke společnému bytí a meditování. \nZtišme myšlenky\, zachumlejme se do deky a do sebe. \nTěším se na Vás \nMarcela \nVstupné 150\,- Kč \n 
URL:https://kulturabela.cz/event/zamecky-klubik-meditace/2026-03-17/
LOCATION:Zámecký klubík
CATEGORIES:Klubík,Zámek
ATTACH;FMTTYPE=image/jpeg:https://kulturabela.cz/wp-content/uploads/2025/09/heart-700141_1280.jpg
END:VEVENT
BEGIN:VEVENT
DTSTART;TZID=Europe/Prague:20260318T150000
DTEND;TZID=Europe/Prague:20260318T160000
DTSTAMP:20260425T230519
CREATED:20260310T134146Z
LAST-MODIFIED:20260310T134146Z
UID:10003564-1773846000-1773849600@kulturabela.cz
SUMMARY:Vilík a čarodějnice
DESCRIPTION:Čarodějná pohádka uprostřed dubna nás trochu připraví na Filipojakubskou noc. \nMluvící kocour Vilík se nešťastně zamiloval do sousedovic kočky. Jeho vyvolená mu však lásku neopětuje. Rozhodne se proto stát se frajerem\, mít šarm a okouzlit ji. A když okouzlit\, tak kouzlem. Vydá se tedy navštívit čarodějnici do temného lesa. Pomůže mu čarodějnice? Určitě ano\, ale jak\, to se dozvíte jen když přijdete do Komorního sálu Kultury Bělá.  \nVstupenky je možné zakoupit také předem v Knihovně Vl. Holana. \n 
URL:https://kulturabela.cz/event/vilik-a-carodejnice/
LOCATION:Kultura Bělá  – Komorní sál\, Masarykovo náměstí 140\, Bělá pod Bezdězem\, 294 21
CATEGORIES:Divadlo,Kultura,Pohádka
ATTACH;FMTTYPE=image/jpeg:https://kulturabela.cz/wp-content/uploads/2026/03/Vilik-a-carodejnice-A3.jpg
ORGANIZER;CN="Kultura B%C4%9Bl%C3%A1":MAILTO:kass@mkzbela.cz
END:VEVENT
BEGIN:VEVENT
DTSTART;TZID=Europe/Prague:20260319T173000
DTEND;TZID=Europe/Prague:20260319T190000
DTSTAMP:20260425T230519
CREATED:20260102T073045Z
LAST-MODIFIED:20251127T065932Z
UID:10003254-1773941400-1773946800@kulturabela.cz
SUMMARY:Jóga s Adél
DESCRIPTION:Milí\, zveme Vás na lekce flow yogy\, vedené zkušenou lektorkou Adél INAK. \nKaždý čtvrtek od 17.30 hod. v Zámeckém klubíku. \nVstupné 150\,- \, s permanentkou 130\,-. \nTěšíme se na Vás.
URL:https://kulturabela.cz/event/joga-s-adel/2026-03-19/
LOCATION:Zámek Bělá pod Bezdězem
CATEGORIES:Klubík,Zámek
ATTACH;FMTTYPE=image/jpeg:https://kulturabela.cz/wp-content/uploads/2025/09/497609391_24262973459972193_3445528966555479462_n.jpg
END:VEVENT
BEGIN:VEVENT
DTSTART;TZID=Europe/Prague:20260324T173000
DTEND;TZID=Europe/Prague:20260324T190000
DTSTAMP:20260425T230519
CREATED:20260105T084222Z
LAST-MODIFIED:20251127T071055Z
UID:10002474-1774373400-1774378800@kulturabela.cz
SUMMARY:Zámecký klubík - Meditace
DESCRIPTION:Milí\, \nzvu Vás každé úterý od 17.30 hod. ke společnému bytí a meditování. \nZtišme myšlenky\, zachumlejme se do deky a do sebe. \nTěším se na Vás \nMarcela \nVstupné 150\,- Kč \n 
URL:https://kulturabela.cz/event/zamecky-klubik-meditace/2026-03-24/
LOCATION:Zámecký klubík
CATEGORIES:Klubík,Zámek
ATTACH;FMTTYPE=image/jpeg:https://kulturabela.cz/wp-content/uploads/2025/09/heart-700141_1280.jpg
END:VEVENT
BEGIN:VEVENT
DTSTART;TZID=Europe/Prague:20260326T173000
DTEND;TZID=Europe/Prague:20260326T190000
DTSTAMP:20260425T230519
CREATED:20260102T073045Z
LAST-MODIFIED:20251127T065932Z
UID:10003255-1774546200-1774551600@kulturabela.cz
SUMMARY:Jóga s Adél
DESCRIPTION:Milí\, zveme Vás na lekce flow yogy\, vedené zkušenou lektorkou Adél INAK. \nKaždý čtvrtek od 17.30 hod. v Zámeckém klubíku. \nVstupné 150\,- \, s permanentkou 130\,-. \nTěšíme se na Vás.
URL:https://kulturabela.cz/event/joga-s-adel/2026-03-26/
LOCATION:Zámek Bělá pod Bezdězem
CATEGORIES:Klubík,Zámek
ATTACH;FMTTYPE=image/jpeg:https://kulturabela.cz/wp-content/uploads/2025/09/497609391_24262973459972193_3445528966555479462_n.jpg
END:VEVENT
BEGIN:VEVENT
DTSTART;TZID=Europe/Prague:20260328T130000
DTEND;TZID=Europe/Prague:20260328T170000
DTSTAMP:20260425T230519
CREATED:20260210T125621Z
LAST-MODIFIED:20260213T091150Z
UID:10003563-1774702800-1774717200@kulturabela.cz
SUMMARY:Velikonoce na zámku
DESCRIPTION:Vážení a milí\, \nza Kulturu bychom Vám rádi popřáli veselé Velikonoce a při té příležitosti Vás zveme na náš zámek\, kde pro Vás opět chystáme Velikonoční akci plnou tradic a veselé tvořivé zábavy. \nUmíte uplést pomlázku? Omalovat tradičně vajíčko voskem? A víte jaká poleva je nejlepší na zdobení perníčků?? S našimi milými lektorkami jistě všechno zvíte a se naučíte. Na své si přijdou malí i velcí\, tvořit budeme opět také zvířátka ze sena. Větší výzvou pak nejspíš bude předení na kolovrátcích a tkaní na stavu. A kdyby Vám při té práci vyhládlo\, nic se neděje\, o dobroty totiž nouze nebude. O občerstvení se postará skvělá paní Vejrostková z Bezdězu a její vyhlášené koláče\, mufiny\, houstičky atd.\, vše domácí a čerstvé. A k tomu jistě přijde vhod výborná káva od Radky a Matouše Horčičkových.  Možná Vás nadchnou klobásy\, párečky\, kapří hranolky\, to vše taktéž z domácí dílny\, tentokrát pana Masaryka. A samozřejmě nebude chybět Vašek Renza se svým stánkem s pivkem a různými nápoji. \nJako už tradičně se se svým programem\, tedy Velikonoční stezkou pro děti\,  připojí Muzeum Podbezdězí. Bude toho samozřejmě více a tak přijďte přátelé pobýt a pobavit se se sousedy\, dát si něco dobrého nebo si něco pěkného vytvořit či koupit. Těšíme se na Vás. Vaše Kultura
URL:https://kulturabela.cz/event/velikonoce-na-zamku-2/
LOCATION:Zámek Bělá pod Bezdězem
CATEGORIES:Jarmarky,Kultura,Zámek
ATTACH;FMTTYPE=image/png:https://kulturabela.cz/wp-content/uploads/2026/02/velikonoce_2025.png
ORGANIZER;CN="Kultura B%C4%9Bl%C3%A1":MAILTO:kass@mkzbela.cz
END:VEVENT
BEGIN:VEVENT
DTSTART;TZID=Europe/Prague:20260331T173000
DTEND;TZID=Europe/Prague:20260331T190000
DTSTAMP:20260425T230519
CREATED:20260105T084222Z
LAST-MODIFIED:20251127T071055Z
UID:10002475-1774978200-1774983600@kulturabela.cz
SUMMARY:Zámecký klubík - Meditace
DESCRIPTION:Milí\, \nzvu Vás každé úterý od 17.30 hod. ke společnému bytí a meditování. \nZtišme myšlenky\, zachumlejme se do deky a do sebe. \nTěším se na Vás \nMarcela \nVstupné 150\,- Kč \n 
URL:https://kulturabela.cz/event/zamecky-klubik-meditace/2026-03-31/
LOCATION:Zámecký klubík
CATEGORIES:Klubík,Zámek
ATTACH;FMTTYPE=image/jpeg:https://kulturabela.cz/wp-content/uploads/2025/09/heart-700141_1280.jpg
END:VEVENT
END:VCALENDAR