BEGIN:VCALENDAR
VERSION:2.0
PRODID:-//Kultura Bělá - ECPv6.3.2//NONSGML v1.0//EN
CALSCALE:GREGORIAN
METHOD:PUBLISH
X-ORIGINAL-URL:https://kulturabela.cz
X-WR-CALDESC:Akce na Kultura Bělá
REFRESH-INTERVAL;VALUE=DURATION:PT1H
X-Robots-Tag:noindex
X-PUBLISHED-TTL:PT1H
BEGIN:VTIMEZONE
TZID:Europe/Prague
BEGIN:DAYLIGHT
TZOFFSETFROM:+0100
TZOFFSETTO:+0200
TZNAME:CEST
DTSTART:20260329T010000
END:DAYLIGHT
BEGIN:STANDARD
TZOFFSETFROM:+0200
TZOFFSETTO:+0100
TZNAME:CET
DTSTART:20261025T010000
END:STANDARD
END:VTIMEZONE
BEGIN:VEVENT
DTSTART;TZID=Europe/Prague:20260502T140000
DTEND;TZID=Europe/Prague:20260502T150000
DTSTAMP:20260425T230401
CREATED:20260407T130133Z
LAST-MODIFIED:20260407T130246Z
UID:10003567-1777730400-1777734000@kulturabela.cz
SUMMARY:Zahájení sezony na zámku - Uč se\, modli a pracuj
DESCRIPTION:Jako každý rok zahájíme zámeckou návštěvnickou sezonu vernisáží výstavy věnované dětské manufaktuře tentokrát na téma:  \nUČ SE\, MODLI A PRACUJ  \nJeště o trochu víc\, než ve známém „ Ora et labora“\, což je heslo řádu benediktinů a v překladu znamená „Modli se a pracuj“. Pochopitelný závazek pro mnichy dobrovolně vstoupivší do církevního řádu\, méně pochopitelný pro bezprizorní pubescenty a adolescenty v druhé polovině 18. století. Závazek dětí umístěných do dětské manufaktury na zámku v Bělé u Bezdězu. \nK tomuto výjimečnému zařízení na zámku v Bělé se vracíme každoročně\, již 11 let. Ze všech stran se snažíme nahlédnout\, jak tato instituce\, která v mnohém předběhla svou dobu  a tím i v mnohém selhala\, fungovala. Letos to budou věci duchovní: vzdělávání a modlitba. \nV sobotu 2. 5. 2026 od 14. 00 hodin v IC s expozicemi na zámku v Bělé pod Bezdězem. \nVstup volný.
URL:https://kulturabela.cz/event/zahajeni-sezony-na-zamku-uc-se-modli-a-pracuj/
LOCATION:IC s expozicemi na zámku
CATEGORIES:Kultura,Přednáška,Výstava,Zámek
ATTACH;FMTTYPE=image/jpeg:https://kulturabela.cz/wp-content/uploads/2026/04/zamek-6-scaled.jpg
ORGANIZER;CN="Kultura B%C4%9Bl%C3%A1":MAILTO:kass@mkzbela.cz
END:VEVENT
END:VCALENDAR